BEGIN:VCALENDAR
VERSION:2.0
PRODID:-//ChamberMaster//Event Calendar 2.0//EN
METHOD:PUBLISH
X-PUBLISHED-TTL:P1H
REFRESH-INTERVAL:P1H
CALSCALE:GREGORIAN
BEGIN:VTIMEZONE
TZID:America/Chicago
BEGIN:DAYLIGHT
RRULE:FREQ=YEARLY;BYMONTH=3;BYDAY=2SU
DTSTART:20070101T000000
TZOFFSETFROM:-0600
TZOFFSETTO:-0500
TZNAME:Central Daylight Time
END:DAYLIGHT
BEGIN:STANDARD
RRULE:FREQ=YEARLY;BYMONTH=11;BYDAY=1SU
DTSTART:20070101T000000
TZOFFSETFROM:-0500
TZOFFSETTO:-0600
TZNAME:Central Standard Time
END:STANDARD
END:VTIMEZONE
BEGIN:VEVENT
DTSTART;TZID=America/Chicago:20260502T080000
DTEND;TZID=America/Chicago:20260502T140000
X-MICROSOFT-CDO-ALLDAYEVENT:FALSE
SUMMARY:The Yoga Tiki Open House - Free Classes All Day May 2nd
DESCRIPTION:Join us at The Yoga Tiki on Saturday\, May 2nd for a full day of free classes and a chance to experience the space\, the energy\, and the community we're building. We'll be offering 45-minute classes throughout the day so you can sample a little bit of everything from flow and heated sculpt to yin\, sound\, and more. Whether you're brand new or a longtime practitioner\, it's the perfect opportunity to explore what we offer and find what feels good in your body. Come by\, move\, hang\, and see what The Yoga Tiki is all about 🌴✨ sign up online at www.theyogatiki.com
X-ALT-DESC;FMTTYPE=text/html:<!DOCTYPE html><html><head><title></title></head><body aria-disabled="false"><p>Join us at The Yoga Tiki on Saturday\, May 2nd for a full day of free classes and a chance to experience the space\, the energy\, and the community we&rsquo\;re building. We&rsquo\;ll be offering 45-minute classes throughout the day so you can sample a little bit of everything&mdash\;from flow and heated sculpt to yin\, sound\, and more. Whether you&rsquo\;re brand new or a longtime practitioner\, it&rsquo\;s the perfect opportunity to explore what we offer and find what feels good in your body. Come by\, move\, hang\, and see what The Yoga Tiki is all about 🌴✨ sign up online at www.theyogatiki.com</p></body></html>
LOCATION:107 RM-620 Ste 108 Lakeway TX 78734
UID:e.4582.1440555
SEQUENCE:3
DTSTAMP:20260424T191344Z
URL:https://business.laketravischamber.com/community-calendar/Details/the-yoga-tiki-open-house-free-classes-all-day-may-2nd-1705547?sourceTypeId=Hub
END:VEVENT
END:VCALENDAR
